BEGIN:VCALENDAR
VERSION:2.0
PRODID:SchoolNow
CALSCALE:GREGORIAN
BEGIN:VEVENT
UID:32daac14-5258-11ea-b4b0-12cfe36c7f2b
DTSTAMP:20210221T190530Z
SUMMARY:All Day Clubhouse Rental - Jun. 14\, 2020
URL;VALUE=URI:https://www.lakestcharles.org/calendar/2202794/all-day-clubho
 use-rental-jun-14-2020
DTSTART:20200614T120000Z
DTEND:20200615T030000Z
END:VEVENT
END:VCALENDAR
