BEGIN:VCALENDAR
VERSION:2.0
PRODID:SchoolNow
CALSCALE:GREGORIAN
BEGIN:VEVENT
UID:22466758-5258-11ea-9038-12cfe36c7f2b
DTSTAMP:20210221T190728Z
SUMMARY:All Day Clubhouse Rental - May 30\, 2020
URL;VALUE=URI:https://www.lakestcharles.org/calendar/2202793/all-day-clubho
 use-rental-may-30-2020
DTSTART:20200530T120000Z
DTEND:20200531T030000Z
END:VEVENT
END:VCALENDAR
