BEGIN:VCALENDAR
VERSION:2.0
PRODID:SchoolNow
CALSCALE:GREGORIAN
BEGIN:VEVENT
UID:14bdac68-5258-11ea-b4c1-12cfe36c7f2b
DTSTAMP:20210221T191443Z
SUMMARY:All Day Clubhouse Rental - Apr. 11\, 2020
URL;VALUE=URI:https://www.lakestcharles.org/calendar/2202792/all-day-clubho
 use-rental-apr-11-2020
DTSTART:20200411T120000Z
DTEND:20200412T030000Z
END:VEVENT
END:VCALENDAR
