BEGIN:VCALENDAR
VERSION:2.0
PRODID:SchoolNow
CALSCALE:GREGORIAN
BEGIN:VEVENT
UID:09487336-5258-11ea-8cd9-12cfe36c7f2b
DTSTAMP:20210221T191726Z
SUMMARY:All Day Clubhouse Rental - Mar. 22\, 2020
URL;VALUE=URI:https://www.lakestcharles.org/calendar/2202791/all-day-clubho
 use-rental-mar-22-2020
DTSTART:20200322T120000Z
DTEND:20200323T030000Z
END:VEVENT
END:VCALENDAR
