BEGIN:VCALENDAR
VERSION:2.0
PRODID:SchoolNow
CALSCALE:GREGORIAN
BEGIN:VEVENT
UID:f689bd40-5257-11ea-8b30-12cfe36c7f2b
DTSTAMP:20200218T140714Z
SUMMARY:All Day Clubhouse Rental
URL;VALUE=URI:https://www.lakestcharles.org/calendar/2202790/all-day-clubho
 use-rental-clone-clone
DTSTART:20200307T130000Z
DTEND:20200308T040000Z
END:VEVENT
END:VCALENDAR
