BEGIN:VCALENDAR
VERSION:2.0
PRODID:SchoolNow
CALSCALE:GREGORIAN
BEGIN:VEVENT
UID:e45a19a8-5257-11ea-a286-12cfe36c7f2b
DTSTAMP:20200218T141006Z
SUMMARY:Evening Clubhouse Rental
URL;VALUE=URI:https://www.lakestcharles.org/calendar/2202789/all-day-clubho
 use-rental-clone-clone
DTSTART:20200229T210000Z
DTEND:20200301T040000Z
END:VEVENT
END:VCALENDAR
