BEGIN:VCALENDAR
VERSION:2.0
PRODID:SchoolNow
CALSCALE:GREGORIAN
BEGIN:VEVENT
UID:cb14b1ce-5257-11ea-8d62-12cfe36c7f2b
DTSTAMP:20200218T140601Z
SUMMARY:All Day Clubhouse Rental
URL;VALUE=URI:https://www.lakestcharles.org/calendar/2202788/all-day-clubho
 use-rental-clone
DTSTART:20200223T130000Z
DTEND:20200224T040000Z
END:VEVENT
END:VCALENDAR
