BEGIN:VCALENDAR
VERSION:2.0
PRODID:SchoolNow
CALSCALE:GREGORIAN
BEGIN:VEVENT
UID:1f187afe-08a6-11ea-8a26-0aedc7481931
DTSTAMP:20191116T192016Z
SUMMARY:Morning Clubhouse Rental
URL;VALUE=URI:https://www.lakestcharles.org/calendar/2146458/morning-clubho
 use-rental
DTSTART:20191228T130000Z
DTEND:20191228T200000Z
END:VEVENT
END:VCALENDAR
