BEGIN:VCALENDAR
VERSION:2.0
PRODID:SchoolNow
CALSCALE:GREGORIAN
BEGIN:VEVENT
UID:f20f4f2e-08a5-11ea-b167-0aedc7481931
DTSTAMP:20210221T191642Z
SUMMARY:All Day Clubhouse Rental - Mar. 28\, 2020
URL;VALUE=URI:https://www.lakestcharles.org/calendar/2146457/all-day-clubho
 use-rental-mar-28-2020
DTSTART:20200328T120000Z
DTEND:20200329T030000Z
END:VEVENT
END:VCALENDAR
