BEGIN:VCALENDAR
VERSION:2.0
PRODID:SchoolNow
CALSCALE:GREGORIAN
BEGIN:VEVENT
UID:dc1516b8-08a5-11ea-832d-0aedc7481931
DTSTAMP:20191116T191824Z
SUMMARY:Evening Clubhouse Rental
URL;VALUE=URI:https://www.lakestcharles.org/calendar/2146456/evening-clubho
 use-rental-clone
DTSTART:20191230T210000Z
DTEND:20191231T040000Z
END:VEVENT
END:VCALENDAR
