BEGIN:VCALENDAR
VERSION:2.0
PRODID:SchoolNow
CALSCALE:GREGORIAN
BEGIN:VEVENT
UID:c78f2026-08a5-11ea-94a2-0aedc7481931
DTSTAMP:20191116T191749Z
SUMMARY:All Day Clubhouse Rental
URL;VALUE=URI:https://www.lakestcharles.org/calendar/2146455/all-day-clubho
 use-rental
DTSTART:20191222T130000Z
DTEND:20191223T040000Z
END:VEVENT
END:VCALENDAR
