BEGIN:VCALENDAR
VERSION:2.0
PRODID:SchoolNow
CALSCALE:GREGORIAN
BEGIN:VEVENT
UID:ada6260a-08a5-11ea-a320-0aedc7481931
DTSTAMP:20191116T191706Z
SUMMARY:2nd Annual LSC Santa Party
URL;VALUE=URI:https://www.lakestcharles.org/calendar/2146454/2nd-annual-lsc
 -santa-party
DTSTART:20191207T150000Z
DTEND:20191207T180000Z
END:VEVENT
END:VCALENDAR
