BEGIN:VCALENDAR
VERSION:2.0
PRODID:SchoolNow
CALSCALE:GREGORIAN
BEGIN:VEVENT
UID:9d070f16-00ae-11ea-bb9a-0a7305334779
DTSTAMP:20210221T184748Z
SUMMARY:Management Committee - Oct. 2020
URL;VALUE=URI:https://www.lakestcharles.org/calendar/2140147/management-com
 mittee-oct-2020
DTSTART:20201015T153000Z
DTEND:20201015T163000Z
END:VEVENT
END:VCALENDAR
