BEGIN:VCALENDAR
VERSION:2.0
PRODID:SchoolNow
CALSCALE:GREGORIAN
BEGIN:VEVENT
UID:72c34c9c-00ae-11ea-b54d-0a7305334779
DTSTAMP:20210221T185321Z
SUMMARY:Management Committee - Aug. 2020
URL;VALUE=URI:https://www.lakestcharles.org/calendar/2140144/management-com
 mittee-aug-2020
DTSTART:20200820T153000Z
DTEND:20200820T163000Z
END:VEVENT
END:VCALENDAR
