BEGIN:VCALENDAR
VERSION:2.0
PRODID:SchoolNow
CALSCALE:GREGORIAN
BEGIN:VEVENT
UID:69027368-00ae-11ea-91d5-0a7305334779
DTSTAMP:20210221T185641Z
SUMMARY:Management Committee - Jul. 2020
URL;VALUE=URI:https://www.lakestcharles.org/calendar/2140143/management-com
 mittee-jul-2020
DTSTART:20200723T153000Z
DTEND:20200723T163000Z
END:VEVENT
END:VCALENDAR
