BEGIN:VCALENDAR
VERSION:2.0
PRODID:SchoolNow
CALSCALE:GREGORIAN
BEGIN:VEVENT
UID:5e583f1a-00ae-11ea-afe0-0a7305334779
DTSTAMP:20210221T190350Z
SUMMARY:Management Committee - Jun. 2020
URL;VALUE=URI:https://www.lakestcharles.org/calendar/2140142/management-com
 mittee-jun-2020
DTSTART:20200618T153000Z
DTEND:20200618T163000Z
END:VEVENT
END:VCALENDAR
