BEGIN:VCALENDAR
VERSION:2.0
PRODID:SchoolNow
CALSCALE:GREGORIAN
BEGIN:VEVENT
UID:54c9d0b2-00ae-11ea-b34d-0a7305334779
DTSTAMP:20210221T190840Z
SUMMARY:Management Committee - May 2020
URL;VALUE=URI:https://www.lakestcharles.org/calendar/2140141/management-com
 mittee-may-2020
DTSTART:20200521T153000Z
DTEND:20200521T163000Z
END:VEVENT
END:VCALENDAR
