BEGIN:VCALENDAR
VERSION:2.0
PRODID:SchoolNow
CALSCALE:GREGORIAN
BEGIN:VEVENT
UID:49abaf7a-00ae-11ea-9b71-0a7305334779
DTSTAMP:20210221T191307Z
SUMMARY:Management Committee - Apr. 2020
URL;VALUE=URI:https://www.lakestcharles.org/calendar/2140140/management-com
 mittee-apr-2020
DTSTART:20200416T153000Z
DTEND:20200416T163000Z
END:VEVENT
END:VCALENDAR
