BEGIN:VCALENDAR
VERSION:2.0
PRODID:SchoolNow
CALSCALE:GREGORIAN
BEGIN:VEVENT
UID:3e47f792-00ae-11ea-8b72-0a7305334779
DTSTAMP:20191106T155815Z
SUMMARY:Management Committee
URL;VALUE=URI:https://www.lakestcharles.org/calendar/2140139/management-com
 mittee-clone
DTSTART:20200319T153000Z
DTEND:20200319T163000Z
END:VEVENT
END:VCALENDAR
