BEGIN:VCALENDAR
VERSION:2.0
PRODID:SchoolNow
CALSCALE:GREGORIAN
BEGIN:VEVENT
UID:36419b02-00ae-11ea-8abe-0a7305334779
DTSTAMP:20191106T155802Z
SUMMARY:Management Committee
URL;VALUE=URI:https://www.lakestcharles.org/calendar/2140138/management-com
 mittee-clone
DTSTART:20200220T163000Z
DTEND:20200220T173000Z
END:VEVENT
END:VCALENDAR
