BEGIN:VCALENDAR
VERSION:2.0
PRODID:SchoolNow
CALSCALE:GREGORIAN
BEGIN:VEVENT
UID:2eccbd20-00ae-11ea-88f3-0a7305334779
DTSTAMP:20191106T155749Z
SUMMARY:Management Committee
URL;VALUE=URI:https://www.lakestcharles.org/calendar/2140137/management-com
 mittee-clone
DTSTART:20200116T163000Z
DTEND:20200116T173000Z
END:VEVENT
END:VCALENDAR
