BEGIN:VCALENDAR
VERSION:2.0
PRODID:SchoolNow
CALSCALE:GREGORIAN
BEGIN:VEVENT
UID:23d81f40-00ae-11ea-95f3-0a7305334779
DTSTAMP:20191106T155731Z
SUMMARY:Management Committee
URL;VALUE=URI:https://www.lakestcharles.org/calendar/2140136/management-com
 mittee-clone
DTSTART:20191219T163000Z
DTEND:20191219T173000Z
END:VEVENT
END:VCALENDAR
