BEGIN:VCALENDAR
VERSION:2.0
PRODID:SchoolNow
CALSCALE:GREGORIAN
BEGIN:VEVENT
UID:15bb605c-00ae-11ea-b198-0a7305334779
DTSTAMP:20210221T184720Z
SUMMARY:Treasurer's Review Mtg - Oct. 2020
URL;VALUE=URI:https://www.lakestcharles.org/calendar/2140135/treasurers-rev
 iew-mtg-oct-2020
DTSTART:20201015T170000Z
DTEND:20201015T180000Z
END:VEVENT
END:VCALENDAR
