BEGIN:VCALENDAR
VERSION:2.0
PRODID:SchoolNow
CALSCALE:GREGORIAN
BEGIN:VEVENT
UID:0ac2648e-00ae-11ea-9f23-0a7305334779
DTSTAMP:20210221T184926Z
SUMMARY:Treasurer's Review Mtg - Sept. 2020
URL;VALUE=URI:https://www.lakestcharles.org/calendar/2140134/treasurers-rev
 iew-mtg-sept-2020
DTSTART:20200917T170000Z
DTEND:20200917T180000Z
END:VEVENT
END:VCALENDAR
