BEGIN:VCALENDAR
VERSION:2.0
PRODID:SchoolNow
CALSCALE:GREGORIAN
BEGIN:VEVENT
UID:01c6488c-00ae-11ea-9656-0a7305334779
DTSTAMP:20210221T185216Z
SUMMARY:Treasurer's Review Mtg - Aug. 2020
URL;VALUE=URI:https://www.lakestcharles.org/calendar/2140133/treasurers-rev
 iew-mtg-aug-2020
DTSTART:20200820T170000Z
DTEND:20200820T180000Z
END:VEVENT
END:VCALENDAR
