BEGIN:VCALENDAR
VERSION:2.0
PRODID:SchoolNow
CALSCALE:GREGORIAN
BEGIN:VEVENT
UID:f7ffcec2-00ad-11ea-acb3-0a7305334779
DTSTAMP:20210221T185610Z
SUMMARY:Treasurer's Review Mtg - Jul. 2020
URL;VALUE=URI:https://www.lakestcharles.org/calendar/2140132/treasurers-rev
 iew-mtg-jul-2020
DTSTART:20200723T170000Z
DTEND:20200723T180000Z
END:VEVENT
END:VCALENDAR
