BEGIN:VCALENDAR
VERSION:2.0
PRODID:SchoolNow
CALSCALE:GREGORIAN
BEGIN:VEVENT
UID:ef4f3650-00ad-11ea-bd45-0a7305334779
DTSTAMP:20210221T190318Z
SUMMARY:Treasurer's Review Mtg - Jun. 2020
URL;VALUE=URI:https://www.lakestcharles.org/calendar/2140131/treasurers-rev
 iew-mtg-jun-2020
DTSTART:20200618T170000Z
DTEND:20200618T180000Z
END:VEVENT
END:VCALENDAR
