BEGIN:VCALENDAR
VERSION:2.0
PRODID:SchoolNow
CALSCALE:GREGORIAN
BEGIN:VEVENT
UID:e4cd63dc-00ad-11ea-b04a-0a7305334779
DTSTAMP:20210221T190816Z
SUMMARY:Treasurer's Review Mtg - May 2020
URL;VALUE=URI:https://www.lakestcharles.org/calendar/2140130/treasurers-rev
 iew-mtg-may-2020
DTSTART:20200521T170000Z
DTEND:20200521T180000Z
END:VEVENT
END:VCALENDAR
