BEGIN:VCALENDAR
VERSION:2.0
PRODID:SchoolNow
CALSCALE:GREGORIAN
BEGIN:VEVENT
UID:d46375d6-00ad-11ea-adf2-0a7305334779
DTSTAMP:20210221T191242Z
SUMMARY:Treasurer's Review Mtg - Apr. 2020
URL;VALUE=URI:https://www.lakestcharles.org/calendar/2140129/treasurers-rev
 iew-mtg-apr-2020
DTSTART:20200416T170000Z
DTEND:20200416T180000Z
END:VEVENT
END:VCALENDAR
