BEGIN:VCALENDAR
VERSION:2.0
PRODID:SchoolNow
CALSCALE:GREGORIAN
BEGIN:VEVENT
UID:98ca765a-00ad-11ea-ab62-12b6f79c9ced
DTSTAMP:20191106T155338Z
SUMMARY:Treasurer's Review Mtg
URL;VALUE=URI:https://www.lakestcharles.org/calendar/2140128/treasurers-rev
 iew-mtg-clone
DTSTART:20200319T170000Z
DTEND:20200319T180000Z
END:VEVENT
END:VCALENDAR
