BEGIN:VCALENDAR
VERSION:2.0
PRODID:SchoolNow
CALSCALE:GREGORIAN
BEGIN:VEVENT
UID:8fe61c9c-00ad-11ea-b691-12b6f79c9ced
DTSTAMP:20191106T155323Z
SUMMARY:Treasurer's Review Mtg
URL;VALUE=URI:https://www.lakestcharles.org/calendar/2140127/treasurers-rev
 iew-mtg-clone
DTSTART:20200220T180000Z
DTEND:20200220T190000Z
END:VEVENT
END:VCALENDAR
