BEGIN:VCALENDAR
VERSION:2.0
PRODID:SchoolNow
CALSCALE:GREGORIAN
BEGIN:VEVENT
UID:869bfe9a-00ad-11ea-804c-12b6f79c9ced
DTSTAMP:20191106T155307Z
SUMMARY:Treasurer's Review Mtg
URL;VALUE=URI:https://www.lakestcharles.org/calendar/2140126/treasurers-rev
 iew-mtg-clone
DTSTART:20200116T180000Z
DTEND:20200116T190000Z
END:VEVENT
END:VCALENDAR
