BEGIN:VCALENDAR
VERSION:2.0
PRODID:SchoolNow
CALSCALE:GREGORIAN
BEGIN:VEVENT
UID:7de1c7b2-00ad-11ea-8035-123d94925eab
DTSTAMP:20191106T155252Z
SUMMARY:Treasurer's Review Mtg
URL;VALUE=URI:https://www.lakestcharles.org/calendar/2140125/treasurers-rev
 iew-mtg-clone
DTSTART:20191219T180000Z
DTEND:20191219T190000Z
END:VEVENT
END:VCALENDAR
