BEGIN:VCALENDAR
VERSION:2.0
PRODID:SchoolNow
CALSCALE:GREGORIAN
BEGIN:VEVENT
UID:28853d2c-00a7-11ea-b5f8-1273aa0c4dc9
DTSTAMP:20210221T184636Z
SUMMARY:Grounds/Security Mtg - Oct. 2020
URL;VALUE=URI:https://www.lakestcharles.org/calendar/2140120/grounds-securi
 ty-mtg-oct-2020
DTSTART:20201021T163000Z
DTEND:20201021T173000Z
END:VEVENT
END:VCALENDAR
