BEGIN:VCALENDAR
VERSION:2.0
PRODID:SchoolNow
CALSCALE:GREGORIAN
BEGIN:VEVENT
UID:1d8c9f82-00a7-11ea-8f56-1273aa0c4dc9
DTSTAMP:20210221T185020Z
SUMMARY:Grounds/Security Mtg - Sept. 2020
URL;VALUE=URI:https://www.lakestcharles.org/calendar/2140119/grounds-securi
 ty-mtg-sept-2020
DTSTART:20200916T163000Z
DTEND:20200916T173000Z
END:VEVENT
END:VCALENDAR
