BEGIN:VCALENDAR
VERSION:2.0
PRODID:SchoolNow
CALSCALE:GREGORIAN
BEGIN:VEVENT
UID:150c2c9c-00a7-11ea-99bc-1273aa0c4dc9
DTSTAMP:20210221T185350Z
SUMMARY:Grounds/Security Mtg - Aug. 2020
URL;VALUE=URI:https://www.lakestcharles.org/calendar/2140118/grounds-securi
 ty-mtg-aug-2020
DTSTART:20200819T163000Z
DTEND:20200819T173000Z
END:VEVENT
END:VCALENDAR
