BEGIN:VCALENDAR
VERSION:2.0
PRODID:SchoolNow
CALSCALE:GREGORIAN
BEGIN:VEVENT
UID:08c62334-00a7-11ea-afb2-1273aa0c4dc9
DTSTAMP:20210221T185715Z
SUMMARY:Grounds/Security Mtg - Jul. 2020
URL;VALUE=URI:https://www.lakestcharles.org/calendar/2140117/grounds-securi
 ty-mtg-jul-2020
DTSTART:20200722T163000Z
DTEND:20200722T173000Z
END:VEVENT
END:VCALENDAR
