BEGIN:VCALENDAR
VERSION:2.0
PRODID:SchoolNow
CALSCALE:GREGORIAN
BEGIN:VEVENT
UID:fbb27b5c-00a6-11ea-8543-1273aa0c4dc9
DTSTAMP:20210221T190416Z
SUMMARY:Grounds/Security Mtg - Jun. 2020
URL;VALUE=URI:https://www.lakestcharles.org/calendar/2140116/grounds-securi
 ty-mtg-jun-2020
DTSTART:20200617T163000Z
DTEND:20200617T173000Z
END:VEVENT
END:VCALENDAR
