BEGIN:VCALENDAR
VERSION:2.0
PRODID:SchoolNow
CALSCALE:GREGORIAN
BEGIN:VEVENT
UID:f127cc28-00a6-11ea-8e68-1273aa0c4dc9
DTSTAMP:20210221T190903Z
SUMMARY:Grounds/Security Mtg - May 2020
URL;VALUE=URI:https://www.lakestcharles.org/calendar/2140115/grounds-securi
 ty-mtg-may-2020
DTSTART:20200520T163000Z
DTEND:20200520T173000Z
END:VEVENT
END:VCALENDAR
