BEGIN:VCALENDAR
VERSION:2.0
PRODID:SchoolNow
CALSCALE:GREGORIAN
BEGIN:VEVENT
UID:e3b7e122-00a6-11ea-9db4-1273aa0c4dc9
DTSTAMP:20210221T191333Z
SUMMARY:Grounds/Security Mtg - Apr. 2020
URL;VALUE=URI:https://www.lakestcharles.org/calendar/2140114/grounds-securi
 ty-mtg-apr-2020
DTSTART:20200415T163000Z
DTEND:20200415T173000Z
END:VEVENT
END:VCALENDAR
