BEGIN:VCALENDAR
VERSION:2.0
PRODID:SchoolNow
CALSCALE:GREGORIAN
BEGIN:VEVENT
UID:db535ffc-00a6-11ea-9959-1273aa0c4dc9
DTSTAMP:20191106T150523Z
SUMMARY:Grounds/Security Mtg
URL;VALUE=URI:https://www.lakestcharles.org/calendar/2140113/grounds-securi
 ty-mtg-clone
DTSTART:20200318T163000Z
DTEND:20200318T173000Z
END:VEVENT
END:VCALENDAR
