BEGIN:VCALENDAR
VERSION:2.0
PRODID:SchoolNow
CALSCALE:GREGORIAN
BEGIN:VEVENT
UID:d3e39b6a-00a6-11ea-b36f-1273aa0c4dc9
DTSTAMP:20191106T150510Z
SUMMARY:Grounds/Security Mtg
URL;VALUE=URI:https://www.lakestcharles.org/calendar/2140112/grounds-securi
 ty-mtg-clone
DTSTART:20200219T173000Z
DTEND:20200219T183000Z
END:VEVENT
END:VCALENDAR
