BEGIN:VCALENDAR
VERSION:2.0
PRODID:SchoolNow
CALSCALE:GREGORIAN
BEGIN:VEVENT
UID:b95c11f0-00a6-11ea-88d5-1273aa0c4dc9
DTSTAMP:20191106T150426Z
SUMMARY:Grounds/Security Mtg
URL;VALUE=URI:https://www.lakestcharles.org/calendar/2140111/grounds-securi
 ty-mtg-clone
DTSTART:20200115T173000Z
DTEND:20200115T183000Z
END:VEVENT
END:VCALENDAR
