BEGIN:VCALENDAR
VERSION:2.0
PRODID:SchoolNow
CALSCALE:GREGORIAN
BEGIN:VEVENT
UID:a6381d94-00a6-11ea-9b49-1273aa0c4dc9
DTSTAMP:20191106T150354Z
SUMMARY:Grounds/Security Mtg
URL;VALUE=URI:https://www.lakestcharles.org/calendar/2140110/grounds-securi
 ty-mtg-clone
DTSTART:20191218T173000Z
DTEND:20191218T183000Z
END:VEVENT
END:VCALENDAR
