BEGIN:VCALENDAR
VERSION:2.0
PRODID:SchoolNow
CALSCALE:GREGORIAN
BEGIN:VEVENT
UID:3d3f3a76-00a5-11ea-a36e-1273aa0c4dc9
DTSTAMP:20210221T184657Z
SUMMARY:Strategic Planning Committee - Oct. 2020
URL;VALUE=URI:https://www.lakestcharles.org/calendar/2140109/strategic-plan
 ning-committee-oct-2020
DTSTART:20201020T140000Z
DTEND:20201020T150000Z
END:VEVENT
END:VCALENDAR
