BEGIN:VCALENDAR
VERSION:2.0
PRODID:SchoolNow
CALSCALE:GREGORIAN
BEGIN:VEVENT
UID:311fd78c-00a5-11ea-97ee-1273aa0c4dc9
DTSTAMP:20210221T185046Z
SUMMARY:Strategic Planning Committee - Sept. 2020
URL;VALUE=URI:https://www.lakestcharles.org/calendar/2140108/strategic-plan
 ning-committee-sept-2020
DTSTART:20200915T140000Z
DTEND:20200915T150000Z
END:VEVENT
END:VCALENDAR
