BEGIN:VCALENDAR
VERSION:2.0
PRODID:SchoolNow
CALSCALE:GREGORIAN
BEGIN:VEVENT
UID:23c12ee2-00a5-11ea-bad8-1273aa0c4dc9
DTSTAMP:20210221T185426Z
SUMMARY:Strategic Planning Committee - Aug. 2020
URL;VALUE=URI:https://www.lakestcharles.org/calendar/2140107/strategic-plan
 ning-committee-aug-2020
DTSTART:20200818T140000Z
DTEND:20200818T150000Z
END:VEVENT
END:VCALENDAR
