BEGIN:VCALENDAR
VERSION:2.0
PRODID:SchoolNow
CALSCALE:GREGORIAN
BEGIN:VEVENT
UID:07f7f150-00a5-11ea-80ae-1273aa0c4dc9
DTSTAMP:20210221T185754Z
SUMMARY:Strategic Planning Committee - Jul. 2020
URL;VALUE=URI:https://www.lakestcharles.org/calendar/2140106/strategic-plan
 ning-committee-jul-2020
DTSTART:20200721T140000Z
DTEND:20200721T150000Z
END:VEVENT
END:VCALENDAR
