BEGIN:VCALENDAR
VERSION:2.0
PRODID:SchoolNow
CALSCALE:GREGORIAN
BEGIN:VEVENT
UID:ec85f28c-00a4-11ea-9d50-1273aa0c4dc9
DTSTAMP:20210221T190441Z
SUMMARY:Strategic Planning Committee - Jun. 2020
URL;VALUE=URI:https://www.lakestcharles.org/calendar/2140105/strategic-plan
 ning-committee-jun-2020
DTSTART:20200616T140000Z
DTEND:20200616T150000Z
END:VEVENT
END:VCALENDAR
