BEGIN:VCALENDAR
VERSION:2.0
PRODID:SchoolNow
CALSCALE:GREGORIAN
BEGIN:VEVENT
UID:e273a758-00a4-11ea-acde-1273aa0c4dc9
DTSTAMP:20210221T190931Z
SUMMARY:Strategic Planning Committee - May 2020
URL;VALUE=URI:https://www.lakestcharles.org/calendar/2140104/strategic-plan
 ning-committee-may-2020
DTSTART:20200519T140000Z
DTEND:20200519T150000Z
END:VEVENT
END:VCALENDAR
